Workbook

Sheet kosztorys zapytania
H2: Załącznik nr 3
C3: Kosztorys zapytania ofertowego
C4: załącznik do formularza ofertowego
D6: netto | E6: brutto
C7: Dzień 1
B9: 1 | C9: Odebranie gości z PKP | D9: ='d1-01odebranieGości'!G11 -> 0 | E9: ='d1-01odebranieGości'!I11 -> 0 | G9: należy wypelnić d1-1
B10: 2 | C10: Animacja i sala do obiadokolacji | D10: ='d1-02impreza'!G12 -> 0 | E10: ='d1-02impreza'!I12 -> 0 | G10: należy wypelnić d1-2
C12: Dzień 2
B14: 3 | C14: Lublin - miasto z historią | D14: ='d2-03Lublin'!G16 -> 0 | E14: ='d2-03Lublin'!I16 -> 0 | G14: należy wypelnić d2-3
B15: 4 | C15: Opolski Orient Express | D15: ='d2-04ekpress'!G15 -> 0 | E15: ='d2-04ekpress'!I15 -> 0 | G15: należy wypelnić d3-4
B16: 5 | C16: Dzień wodnika | D16: ='d2-05wodnik'!G15 -> 0 | E16: ='d2-05wodnik'!I15 -> 0 | G16: należy wypelnić d3-5
B17: 6 | C17: Kazimierskie jary | D17: ='d2-06jary'!G14 -> 0 | E17: ='d2-06jary'!I14 -> 0 | G17: należy wypelnić d3-6
B18: 7 | C18: Noc świętojańska | D18: ='d2-07nocJana'!G22 -> 0 | E18: ='d2-07nocJana'!I22 -> 0 | G18: należy wypelnić d3-7
C20: Dzień 3
B22: 8 | C22: Lublin - miasto z historią | D22: ='d3-08Lublin'!G16 -> 0 | E22: ='d3-08Lublin'!I16 -> 0 | G22: należy wypelnić d3-8
B23: 9 | C23: Kazimierskie jary | D23: ='d3-09jary'!G14 -> 0 | E23: ='d3-09jary'!I14 -> 0 | G23: należy wypelnić d3-9
B24: 10 | C24: Lessowo-szosowy rajd rowerowy | D24: ='d3-10rowery'!G18 -> 0 | E24: ='d3-10rowery'!I18 -> 0 | G24: należy wypelnić d3-10
B25: 11 | C25: Zatrzymaj czas w Nałęczowie | D25: ='d3-11Nałęczów'!G12 -> 0 | E25: ='d3-11Nałęczów'!I12 -> 0 | G25: należy wypelnić d3-11
B26: 12 | C26: Impreza kończąca | D26: ='d3-121impreza'!G12 -> 0 | E26: ='d3-121impreza'!I12 -> 0 | G26: należy wypelnić d3-12
C28: Dzień 4
B30: 13 | C30: Odwiezienie gości z PKP | D30: ='d4-13odwiezienieGości'!G11 -> 0 | E30: ='d4-13odwiezienieGości'!I11 -> 0 | G30: należy wypelnić d4-13
C32: Pozostałe
B34: 14 | C34: catering | D34: ='14 catering'!G15 -> 0 | E34: ='14 catering'!I15 -> 0 | G34: należy wypełnić d4-14
B35: 15 | C35: ubezpieczenie NNW dla 160 osób na 2 dni | D35: 0 | E35: 0 | G35: do wypełnienia
B36: 16 | C36: opłata klimatyczna (150 osób / 3 doby) | D36: 0 | E36: 0 | G36: do wypełnienia
B37: 17 | C37: wynagrodzenie wykonawcy | D37: 0 | E37: 0 | G37: do wypełnienia
C39: suma (PLN): | D39: =SUM(D9:D37) -> 0 | E39: =SUM(E9:E37) -> 0

Sheet d1-01odebranieGości
A3: 1 | B3: Odebranie gości, dzień 1
B6: Lp. | C6: Pozycja kosztowa | D6: Jednostka | E6: Ilość | F6: Cena jedn. | G6: Wartość netto | H6: Stawka VAT | I6: Wartość brutto | J6: Uwagi / Wymagania techniczne
B8: 1 | C8: Odbieranie gości z dworca PKP i przewożenie do hotelu Arche | D8: os. | E8: 87 | F8: 0 | G8: =E8*F8 -> 0 | H8: 0 | I8: =G8+(G8*H8) -> 0
B9: 2 | C9: inna pozycja | F9: 0 | G9: =E9*F9 -> 0 | H9: 0 | I9: =G9+(G9*H9) -> 0
B11: suma (PLN): | G11: =SUM(G8:G9) -> 0 | I11: =SUM(I8:I9) -> 0

Sheet d1-02impreza
A3: 2 | B3: Impreza 18 czerwca 2026, Lux Sfera - klubokawiarnia, dzień 1
B6: Lp. | C6: Pozycja kosztowa | D6: Jednostka | E6: Ilość | F6: Cena jedn. | G6: Wartość netto | H6: Stawka VAT | I6: Wartość brutto | J6: Uwagi / Wymagania techniczne
B8: 1 | C8: DJ | D8: szt. | E8: 1 | F8: 0 | G8: =E8*F8 -> 0 | H8: 0 | I8: =G8+(G8*H8) -> 0
B9: 2 | C9: Iluzjonista | D9: szt. | E9: 1 | F9: 0 | G9: =E9*F9 -> 0 | H9: 0 | I9: =G9+(G9*H9) -> 0
B10: 3 | C10: inna pozycja | F10: 0 | G10: =E10*F10 -> 0 | H10: 0 | I10: =G10+(G10*H10) -> 0
B12: suma (PLN): | G12: =SUM(G8:G10) -> 0 | I12: =SUM(I8:I10) -> 0

Sheet d2-03Lublin
A3: 3 | B3: Lublin - miasto z historią, dzień 2
B6: Lp. | C6: Pozycja kosztowa | D6: Jednostka | E6: Ilość | F6: Cena jedn. | G6: Wartość netto | H6: Stawka VAT | I6: Wartość brutto | J6: Uwagi / Wymagania techniczne
B8: 1 | C8: Wynajem autokaru/busa, przewóz 24 osób (Nałęczów - Lublin i Lublin - Nałęczów) | D8: szt. | E8: 1 | F8: 0 | G8: =E8*F8 -> 0 | H8: 0 | I8: =G8+(G8*H8) -> 0
B9: 2 | C9: Przewodnik PPTK, zwiedzanie Stare Miasto i Plac Litewski | D9: os. | E9: 1 | F9: 0 | G9: =E9*F9 -> 0 | H9: 0 | I9: =G9+(G9*H9) -> 0
B10: 3 | C10: Przewodnik Zamek (ekspozycje stałe, kaplica, wieża zamkowa) | D10: os. | E10: 2 | F10: 0 | G10: =E10*F10 -> 0 | H10: 0 | I10: =G10+(G10*H10) -> 0
B11: 4 | C11: Bilety Zamek (ekspozycje stałe, kaplica, wieża zamkowa) | D11: os. | E11: 25 | F11: 0 | G11: =E11*F11 -> 0 | H11: 0 | I11: =G11+(G11*H11) -> 0
B12: 5 | C12: Muzeum Cebularza | D12: os. | E12: 25 | F12: 0 | G12: =E12*F12 -> 0 | H12: 0 | I12: =G12+(G12*H12) -> 0
B13: 6 | C13: Podziemia Browaru Perła | D13: os. | E13: 25 | F13: 0 | G13: =E13*F13 -> 0 | H13: 0 | I13: =G13+(G13*H13) -> 0
B14: 7 | C14: inna pozycja | F14: 0 | G14: =E14*F14 -> 0 | H14: 0 | I14: =G14+(G14*H14) -> 0
B16: suma (PLN): | G16: =SUM(G8:G14) -> 0 | I16: =SUM(I8:I14) -> 0

Sheet d2-04ekpress
A3: 4 | B3: Opolski Orient Express, dzień 2
B6: Lp. | C6: Pozycja kosztowa | D6: Jednostka | E6: Ilość | F6: Cena jedn. | G6: Wartość netto | H6: Stawka VAT | I6: Wartość brutto | J6: Uwagi / Wymagania techniczne
B8: 1 | C8: Wynajem autokaru/busa, przewóz 52 osób (Nałęczów - Karczmiska - Kazimierz - Nałęczów) | D8: szt. | E8: 1 | F8: 0 | G8: =E8*F8 -> 0 | H8: 0 | I8: =G8+(G8*H8) -> 0
B9: 2 | C9: Przejazd koleją wąskotorową (52 osoby) | D9: usł. | E9: 1 | F9: 0 | G9: =E9*F9 -> 0 | H9: 0 | I9: =G9+(G9*H9) -> 0
B10: 3 | C10: Przejazd drezynami (52 osoby) | D10: usł. | E10: 14 | F10: 0 | G10: =E10*F10 -> 0 | H10: 0 | I10: =G10+(G10*H10) -> 0
B11: 4 | C11: Rejs statkiem 1h | D11: os. | E11: 52 | F11: 0 | G11: =E11*F11 -> 0 | H11: 0 | I11: =G11+(G11*H11) -> 0
B12: 5 | C12: Bilety na Górę Trzech Krzyży | D12: os. | E12: 52 | F12: 0 | G12: =E12*F12 -> 0 | H12: 0 | I12: =G12+(G12*H12) -> 0
B13: 6 | C13: inna pozycja | F13: 0 | G13: =E13*F13 -> 0 | H13: 0 | I13: =G13+(G13*H13) -> 0
B15: suma (PLN): | G15: =SUM(G8:G13) -> 0 | I15: =SUM(I8:I13) -> 0

Sheet d2-05wodnik
A3: 5 | B3: Dzień wodnika, dzień 2
B6: Lp. | C6: Pozycja kosztowa | D6: Jednostka | E6: Ilość | F6: Cena jedn. | G6: Wartość netto | H6: Stawka VAT | I6: Wartość brutto | J6: Uwagi / Wymagania techniczne
B8: 1 | C8: Wynajem autokaru/busa, przewóz 50 osób (Nałęczów - Szczekarkowa Kolonia i Kazimierz - Nałęczów) | D8: szt. | E8: 1 | F8: 0 | G8: =E8*F8 -> 0 | H8: 0 | I8: =G8+(G8*H8) -> 0
B9: 2 | C9: Kajaki 2 os. | D9: szt. | E9: 25 | F9: 0 | G9: =E9*F9 -> 0 | H9: 0 | I9: =G9+(G9*H9) -> 0
B10: 3 | C10: Osoba prowadząca | D10: os. | E10: 2 | F10: 0 | G10: =E10*F10 -> 0 | H10: 0 | I10: =G10+(G10*H10) -> 0
B11: 4 | C11: Transport kajaków | D11: szt. | E11: 1 | F11: 0 | G11: =E11*F11 -> 0 | H11: 0 | I11: =G11+(G11*H11) -> 0
B12: 5 | C12: Rejs statkiem | D12: os. | E12: 50 | F12: 0 | G12: =E12*F12 -> 0 | H12: 0 | I12: =G12+(G12*H12) -> 0
B13: 6 | C13: inna pozycja | F13: 0 | G13: =E13*F13 -> 0 | H13: 0 | I13: =G13+(G13*H13) -> 0
B15: suma (PLN): | G15: =SUM(G8:G12) -> 0 | I15: =SUM(I8:I12) -> 0

Sheet d2-06jary
A3: 6 | B3: Kazimierskie jary, dzień 2
B6: Lp. | C6: Pozycja kosztowa | D6: Jednostka | E6: Ilość | F6: Cena jedn. | G6: Wartość netto | H6: Stawka VAT | I6: Wartość brutto | J6: Uwagi / Wymagania techniczne
B8: 1 | C8: Wynajem autokaru/busa, przewóz 27 osób (Nałęczów - Bochotnica i Kazimierz - Nałęczów) | D8: szt. | E8: 1 | F8: 0 | G8: =E8*F8 -> 0 | H8: 0 | I8: =G8+(G8*H8) -> 0
B9: 2 | C9: Rejs statkiem | D9: os. | E9: 27 | F9: 0 | G9: =E9*F9 -> 0 | H9: 0 | I9: =G9+(G9*H9) -> 0
B10: 3 | C10: Bilety na Górę Trzech Krzyży | D10: os. | E10: 27 | F10: 0 | G10: =E10*F10 -> 0 | H10: 0 | I10: =G10+(G10*H10) -> 0
B11: 4 | C11: Park Miliona Róż | D11: os. | E11: 27 | F11: 0 | G11: =E11*F11 -> 0 | H11: 0 | I11: =G11+(G11*H11) -> 0
B12: 5 | C12: inna pozycja | F12: 0 | G12: =E12*F12 -> 0 | H12: 0 | I12: =G12+(G12*H12) -> 0
B14: suma (PLN): | G14: =SUM(G8:G12) -> 0 | I14: =SUM(I8:I12) -> 0

Sheet d2-07nocJana
A3: 7 | B3: Impreza 19 czerwca 2026, Noc świętojańska, dzień 2
B6: Lp. | C6: Pozycja kosztowa | D6: Jednostka | E6: Ilość | F6: Cena jedn. | G6: Wartość netto | H6: Stawka VAT | I6: Wartość brutto | J6: Uwagi / Wymagania techniczne
B8: 1 | C8: Wynajem autokaru/busa, przewóz 150 osób (Nałęczów - Lublin i Lublin - Nałęczów) | D8: szt. | E8: 3 | F8: 0 | G8: =E8*F8 -> 0 | H8: 0 | I8: =G8+(G8*H8) -> 0
B9: 2 | C9: Kapela Dąbrowicka | D9: szt. | E9: 1 | F9: 0 | G9: =E9*F9 -> 0 | H9: 0 | I9: =G9+(G9*H9) -> 0
B10: 3 | C10: Wynajęcie Remizy z Bedlna w Muzeum Wsi Lubelskiej | D10: godz. | E10: 4 | F10: 0 | G10: =E10*F10 -> 0 | H10: 0 | I10: =G10+(G10*H10) -> 0
B11: 4 | C11: namiot do wiejskiego stołu | D11: szt. | E11: 2 | F11: 0 | G11: =E11*F11 -> 0 | H11: 0 | I11: =G11+(G11*H11) -> 0
B12: 5 | C12: klimatyczne oświetlenie remizy | D12: szt. | E12: 1 | F12: 0 | G12: =E12*F12 -> 0 | H12: 0 | I12: =G12+(G12*H12) -> 0
B13: 6 | C13: ognisko na 100 osób (2 szt. po 3 h) | D13: godz. | E13: 6 | F13: 0 | G13: =E13*F13 -> 0 | H13: 0 | I13: =G13+(G13*H13) -> 0
B14: 7 | C14: toalety przenośne | D14: szt. | E14: 6 | F14: 0 | G14: =E14*F14 -> 0 | H14: 0 | I14: =G14+(G14*H14) -> 0
B15: 8 | C15: wiejski stół z przekąskami mięsnymi i wegetariańskimi | D15: os. | E15: 150 | F15: 0 | G15: =E15*F15 -> 0 | H15: 0 | I15: =G15+(G15*H15) -> 0
B16: 9 | C16: napoje | D16: os. | E16: 150 | F16: 0 | G16: =E16*F16 -> 0 | H16: 0 | I16: =G16+(G16*H16) -> 0
B17: 10 | C17: Przedstawienie Willa Św. Jana | D17: szt. | E17: 1 | F17: 0 | G17: =E17*F17 -> 0 | H17: 0 | I17: =G17+(G17*H17) -> 0
B18: 11 | C18: Transport grupy teatralnej Hańsk | D18: usł. | E18: 1 | F18: 0 | G18: =E18*F18 -> 0 | H18: 0 | I18: =G18+(G18*H18) -> 0
B19: 12 | C19: Sprzatanie miejsc apo zakończeniu imprezy | D19: szt. | E19: 1 | F19: 0 | G19: =E19*F19 -> 0 | H19: 0 | I19: =G19+(G19*H19) -> 0
B20: 13 | C20: inna pozycja | F20: 0 | G20: =E20*F20 -> 0 | H20: 0 | I20: =G20+(G20*H20) -> 0
B22: suma (PLN): | G22: =SUM(G8:G20) -> 0 | I22: =SUM(I8:I20) -> 0

Sheet d3-08Lublin
A3: 8 | B3: Lublin - miasto z historią, dzień 3
B6: Lp. | C6: Pozycja kosztowa | D6: Jednostka | E6: Ilość | F6: Cena jedn. | G6: Wartość netto | H6: Stawka VAT | I6: Wartość brutto | J6: Uwagi / Wymagania techniczne
B8: 1 | C8: Wynajem autokaru/busa, przewóz 44 osób (Nałęczów - Lublin i Lublin - Nałęczów) | D8: szt. | E8: 1 | F8: 0 | G8: =E8*F8 -> 0 | H8: 0 | I8: =G8+(G8*H8) -> 0
B9: 2 | C9: Przewodnik PPTK, zwiedzanie Stare Miasto i Plac Litewski | D9: os. | E9: 1 | F9: 0 | G9: =E9*F9 -> 0 | H9: 0 | I9: =G9+(G9*H9) -> 0
B10: 3 | C10: Przewodnik Zamek (ekspozycje stałe, kaplica, wieża zamkowa) | D10: os. | E10: 4 | F10: 0 | G10: =E10*F10 -> 0 | H10: 0 | I10: =G10+(G10*H10) -> 0
B11: 4 | C11: Bilety Zamek (ekspozycje stałe, kaplica, wieża zamkowa) | D11: os. | E11: 45 | F11: 0 | G11: =E11*F11 -> 0 | H11: 0 | I11: =G11+(G11*H11) -> 0
B12: 5 | C12: Muzeum Cebularza | D12: os. | E12: 45 | F12: 0 | G12: =E12*F12 -> 0 | H12: 0 | I12: =G12+(G12*H12) -> 0
B13: 6 | C13: Podziemia Browaru Perła | D13: os. | E13: 45 | F13: 0 | G13: =E13*F13 -> 0 | H13: 0 | I13: =G13+(G13*H13) -> 0
B14: 7 | C14: inna pozycja | F14: 0 | G14: =E14*F14 -> 0 | H14: 0 | I14: =G14+(G14*H14) -> 0
B16: suma (PLN): | G16: =SUM(G8:G14) -> 0 | I16: =SUM(I8:I14) -> 0

Sheet d3-09jary
A3: 9 | B3: Kazimierskie jary, dzień 3
B6: Lp. | C6: Pozycja kosztowa | D6: Jednostka | E6: Ilość | F6: Cena jedn. | G6: Wartość netto | H6: Stawka VAT | I6: Wartość brutto | J6: Uwagi / Wymagania techniczne
B8: 1 | C8: Wynajem autokaru/busa, przewóz 37 osób (Nałęczów - Bochotnica i Kazimierz - Nałęczów) | D8: szt. | E8: 1 | F8: 0 | G8: =E8*F8 -> 0 | H8: 0 | I8: =G8+(G8*H8) -> 0
B9: 2 | C9: Rejs statkiem | D9: os. | E9: 37 | F9: 0 | G9: =E9*F9 -> 0 | H9: 0 | I9: =G9+(G9*H9) -> 0
B10: 3 | C10: Bilety na Górę Trzech Krzyży | D10: os. | E10: 37 | F10: 0 | G10: =E10*F10 -> 0 | H10: 0 | I10: =G10+(G10*H10) -> 0
B11: 4 | C11: Park Miliona Róż | D11: os. | E11: 37 | F11: 0 | G11: =E11*F11 -> 0 | H11: 0 | I11: =G11+(G11*H11) -> 0
B12: 5 | C12: inna pozycja | F12: 0 | G12: =E12*F12 -> 0 | H12: 0 | I12: =G12+(G12*H12) -> 0
B14: suma (PLN): | G14: =SUM(G8:G12) -> 0 | I14: =SUM(I8:I12) -> 0

Sheet d3-10rowery
A3: 10 | B3: Lessowo-szosowy rajd rowerowy, dzień 3
B6: Lp. | C6: Pozycja kosztowa | D6: Jednostka | E6: Ilość | F6: Cena jedn. | G6: Wartość netto | H6: Stawka VAT | I6: Wartość brutto | J6: Uwagi / Wymagania techniczne
B8: 1 | C8: Wypożyczenie rowerów elektrycznych | D8: szt. | E8: 30 | F8: 0 | G8: =E8*F8 -> 0 | H8: 0 | I8: =G8+(G8*H8) -> 0
B9: 2 | C9: Wypożyczenie rowerów trekkingowych/górskich (w tym 1 zapas) | D9: szt. | E9: 14 | F9: 0 | G9: =E9*F9 -> 0 | H9: 0 | I9: =G9+(G9*H9) -> 0
B10: 3 | C10: Wypożyczenie kasków rowerowych | D10: szt. | E10: 43 | F10: 0 | G10: =E10*F10 -> 0 | H10: 0 | I10: =G10+(G10*H10) -> 0
B11: 4 | C11: Transport rowerów do i z hotelu w Nałęczowie | D11: usł. | E11: 1 | F11: 0 | G11: =E11*F11 -> 0 | H11: 0 | I11: =G11+(G11*H11) -> 0
B12: 5 | C12: Samochód wsparcia technicznego z kierowcą | D12: usł. | E12: 1 | F12: 0 | G12: =E12*F12 -> 0 | H12: 0 | I12: =G12+(G12*H12) -> 0
B13: 6 | C13: Paliwo / Kilometrówka (Service Car) | D13: usł. | E13: 1 | F13: 0 | G13: =E13*F13 -> 0 | H13: 0 | I13: =G13+(G13*H13) -> 0
B14: 7 | C14: Sprawdzenie trasy na 2-3 dni przed rajdem (opcjonalnie) | D14: usł. | E14: 0 | F14: 0 | G14: =E14*F14 -> 0 | H14: 0 | I14: =G14+(G14*H14) -> 0
B15: 8 | C15: Bilety na Górę Trzech Krzyży | D15: os. | E15: 45 | F15: 0 | G15: =E15*F15 -> 0 | H15: 0 | I15: =G15+(G15*H15) -> 0
B16: 9 | C16: inna pozycja | F16: 0 | G16: =E16*F16 -> 0 | H16: 0 | I16: =G16+(G16*H16) -> 0
B18: suma (PLN): | G18: =SUM(G8:G16) -> 0 | I18: =SUM(I8:I16) -> 0

Sheet d3-11Nałęczów
A3: 11 | B3: Zatrzymaj czas w Nałęczowie, dzień 3
B6: Lp. | C6: Pozycja kosztowa | D6: Jednostka | E6: Ilość | F6: Cena jedn. | G6: Wartość netto | H6: Stawka VAT | I6: Wartość brutto | J6: Uwagi / Wymagania techniczne
B8: 1 | C8: zajęcia z jogi śmiechu (27 osób) | D8: grupa | E8: 1 | F8: 0 | G8: =E8*F8 -> 0 | H8: 0 | I8: =G8+(G8*H8) -> 0
B9: 2 | C9: zwiedzanie Nałęczowa z przewodnikiem | D9: grupa | E9: 1 | F9: 0 | G9: =E9*F9 -> 0 | H9: 0 | I9: =G9+(G9*H9) -> 0
B10: 3 | C10: inna pozycja | F10: 0 | G10: =E10*F10 -> 0 | H10: 0 | I10: =G10+(G10*H10) -> 0
B12: suma (PLN): | G12: =SUM(G8:G10) -> 0 | I12: =SUM(I8:I10) -> 0

Sheet d3-121impreza
A3: 12 | B3: Impreza 20 czerwca 2026, Sala Harmonii, dzień 3
B6: Lp. | C6: Pozycja kosztowa | D6: Jednostka | E6: Ilość | F6: Cena jedn. | G6: Wartość netto | H6: Stawka VAT | I6: Wartość brutto | J6: Uwagi / Wymagania techniczne
B8: 1 | C8: DJ | D8: szt. | E8: 1 | F8: 0 | G8: =E8*F8 -> 0 | H8: 0 | I8: =G8+(G8*H8) -> 0
B9: 2 | C9: fotobudka (cały wieczór) | D9: szt. | E9: 1 | F9: 0 | G9: =E9*F9 -> 0 | H9: 0 | I9: =G9+(G9*H9) -> 0
B10: 3 | C10: inna pozycja | F10: 0 | G10: =E10*F10 -> 0 | H10: 0 | I10: =G10+(G10*H10) -> 0
B12: suma (PLN): | G12: =SUM(G8:G10) -> 0 | I12: =SUM(I8:I10) -> 0

Sheet d4-13odwiezienieGości
A3: 13 | B3: Odwiezienie gości, dzień 4
B6: Lp. | C6: Pozycja kosztowa | D6: Jednostka | E6: Ilość | F6: Cena jedn. | G6: Wartość netto | H6: Stawka VAT | I6: Wartość brutto | J6: Uwagi / Wymagania techniczne
B8: 1 | C8: Odwiezienie gości z hotelu Arche na dworzec PKP | D8: os. | E8: 87 | F8: 0 | G8: =E8*F8 -> 0 | H8: 0 | I8: =G8+(G8*H8) -> 0
B9: 2 | C9: inna pozycja | F9: 0 | G9: =E9*F9 -> 0 | H9: 0 | I9: =G9+(G9*H9) -> 0
B11: suma (PLN): | G11: =SUM(G8:G9) -> 0 | I11: =SUM(I8:I9) -> 0

Sheet 14 catering
B2: Kategoria | C2: Pozycja kosztowa | D2: Jednostka | E2: Ilość | F2: Cena jedn. | G2: Wartość netto | H2: Stawka VAT | I2: Wartość brutto | J2: Uwagi / Wymagania techniczne
C4: Pakiety prowiantowe (Lunchbox) | D4: zest. | E4: 150 | F4: 0 | G4: =E4*F4 -> 0 | H4: 0 | I4: =G4+(G4*H4) -> 0 | J4: 2 kanapki na osobę.
C5: baton energatyczny/proteinowy | D5: szt. | E5: 150 | F5: 0 | G5: =E5*F5 -> 0 | H5: 0 | I5: =G5+(G5*H5) -> 0
C6: Woda mineralna (1 l) | D6: szt. | E6: 150 | F6: 0 | G6: =E6*F6 -> 0 | H6: 0 | I6: =G6+(G6*H6) -> 0
B8: suma (PLN): | G8: =SUM(G4:G6) -> 0 | I8: =SUM(I4:I6) -> 0
C10: drugi dzień | G10: =G8*2 -> 0 | I10: =I8*2 -> 0
C13: Napój izotoniczny (0,7 l) tylko rowery | D13: szt. | E13: 45 | F13: 0 | G13: =E13*F13 -> 0 | H13: 0 | I13: =G13+(G13*H13) -> 0
C15: łącznie | G15: =G10+G13 -> 0 | I15: =I10+I13 -> 0
